BEGIN:VCALENDAR
VERSION:2.0
PRODID:Events Booking
BEGIN:VEVENT
UID:69e7a37315137
SUMMARY:Rücken Fit
DESCRIPTION:Die Rumpfmuskulatur wird gekräftigt und die Wirbelsäulenmusku
 latur trainiert\, damit Sie im Alltag leistungsfähiger und schmerzfrei we
 rden.
LOCATION:Turn- und Sportverein Betzingen e.V. 1889 Haldenäckerweg 4 72770 
 Reutlingen Deutschland (Germany)
DTSTART:20260505T161500Z
DTEND:20260721T171500Z
DTSTAMP:20260331T075136Z
ORGANIZER;CN=Turn- und Sportverein Betzingen e.V. 1889:MAILTO:online@tsv-be
 tzingen.de
GEO:48.493126;9.168448
X-APPLE-STRUCTURED-LOCATION;VALUE=URI;X-ADDRESS=Turn- und Sportverein Betzi
 ngen e.V. 1889 Haldenäckerweg 4 72770 Reutlingen Deutschland (Germany);X-
 APPLE-RADIUS=72;X-TITLE=Sportzentrum:48.493126;9.168448
END:VEVENT
END:VCALENDAR