BEGIN:VCALENDAR
VERSION:2.0
PRODID:Events Booking
BEGIN:VEVENT
UID:69e7b8c8e3f9f
SUMMARY:Functional Fitness
DESCRIPTION:Modernes Ausgleichs- und Ergänzungstraining mit Balance-\, Ela
 stizitäts-\, und Kraftübungen für das Zusammenspiel vieler Muskelgruppe
 n.
LOCATION:Turn- und Sportverein Betzingen e.V. 1889 Haldenäckerweg 4 72770 
 Reutlingen Deutschland (Germany)
DTSTART:20260505T173000Z
DTEND:20260721T183000Z
DTSTAMP:20260331T075350Z
ORGANIZER;CN=Turn- und Sportverein Betzingen e.V. 1889:MAILTO:online@tsv-be
 tzingen.de
GEO:48.493126;9.168448
X-APPLE-STRUCTURED-LOCATION;VALUE=URI;X-ADDRESS=Turn- und Sportverein Betzi
 ngen e.V. 1889 Haldenäckerweg 4 72770 Reutlingen Deutschland (Germany);X-
 APPLE-RADIUS=72;X-TITLE=Sportzentrum:48.493126;9.168448
END:VEVENT
END:VCALENDAR